BEGIN:VCALENDAR
VERSION:2.0
PRODID:-//XCEL Fitness - ECPv6.15.20//NONSGML v1.0//EN
CALSCALE:GREGORIAN
METHOD:PUBLISH
X-WR-CALNAME:XCEL Fitness
X-ORIGINAL-URL:https://www.xcelperform.com
X-WR-CALDESC:Events for XCEL Fitness
REFRESH-INTERVAL;VALUE=DURATION:PT1H
X-Robots-Tag:noindex
X-PUBLISHED-TTL:PT1H
BEGIN:VTIMEZONE
TZID:America/Chicago
BEGIN:DAYLIGHT
TZOFFSETFROM:-0600
TZOFFSETTO:-0500
TZNAME:CDT
DTSTART:20210314T080000
END:DAYLIGHT
BEGIN:STANDARD
TZOFFSETFROM:-0500
TZOFFSETTO:-0600
TZNAME:CST
DTSTART:20211107T070000
END:STANDARD
BEGIN:DAYLIGHT
TZOFFSETFROM:-0600
TZOFFSETTO:-0500
TZNAME:CDT
DTSTART:20220313T080000
END:DAYLIGHT
BEGIN:STANDARD
TZOFFSETFROM:-0500
TZOFFSETTO:-0600
TZNAME:CST
DTSTART:20221106T070000
END:STANDARD
BEGIN:DAYLIGHT
TZOFFSETFROM:-0600
TZOFFSETTO:-0500
TZNAME:CDT
DTSTART:20230312T080000
END:DAYLIGHT
BEGIN:STANDARD
TZOFFSETFROM:-0500
TZOFFSETTO:-0600
TZNAME:CST
DTSTART:20231105T070000
END:STANDARD
END:VTIMEZONE
BEGIN:VEVENT
DTSTART;TZID=America/Chicago:20220503T180000
DTEND;TZID=America/Chicago:20220503T184500
DTSTAMP:20260423T051705
CREATED:20220304T193435Z
LAST-MODIFIED:20220304T193435Z
UID:1373-1651600800-1651603500@www.xcelperform.com
SUMMARY:Jr. Xcel Lifting
DESCRIPTION:
URL:https://www.xcelperform.com/event/jr-xcel-lifting-17/
END:VEVENT
BEGIN:VEVENT
DTSTART;TZID=America/Chicago:20220505T180000
DTEND;TZID=America/Chicago:20220505T184500
DTSTAMP:20260423T051705
CREATED:20220304T193510Z
LAST-MODIFIED:20220304T193510Z
UID:1375-1651773600-1651776300@www.xcelperform.com
SUMMARY:Jr. Xcel Lifting
DESCRIPTION:
URL:https://www.xcelperform.com/event/jr-xcel-lifting-18/
END:VEVENT
BEGIN:VEVENT
DTSTART;TZID=America/Chicago:20220510T180000
DTEND;TZID=America/Chicago:20220510T184500
DTSTAMP:20260423T051705
CREATED:20220304T195052Z
LAST-MODIFIED:20220304T195052Z
UID:1377-1652205600-1652208300@www.xcelperform.com
SUMMARY:Jr. Xcel Lifting
DESCRIPTION:
URL:https://www.xcelperform.com/event/jr-xcel-lifting-19/
END:VEVENT
BEGIN:VEVENT
DTSTART;TZID=America/Chicago:20220512T180000
DTEND;TZID=America/Chicago:20220512T184500
DTSTAMP:20260423T051706
CREATED:20220304T195122Z
LAST-MODIFIED:20220304T195122Z
UID:1379-1652378400-1652381100@www.xcelperform.com
SUMMARY:Jr. Xcel Lifting
DESCRIPTION:
URL:https://www.xcelperform.com/event/jr-xcel-lifting-20/
END:VEVENT
BEGIN:VEVENT
DTSTART;TZID=America/Chicago:20220517T180000
DTEND;TZID=America/Chicago:20220517T184500
DTSTAMP:20260423T051706
CREATED:20220304T195417Z
LAST-MODIFIED:20220304T195417Z
UID:1381-1652810400-1652813100@www.xcelperform.com
SUMMARY:Jr. Xcel Lifting
DESCRIPTION:
URL:https://www.xcelperform.com/event/jr-xcel-lifting-21/
END:VEVENT
BEGIN:VEVENT
DTSTART;TZID=America/Chicago:20220519T180000
DTEND;TZID=America/Chicago:20220519T184500
DTSTAMP:20260423T051706
CREATED:20220304T195450Z
LAST-MODIFIED:20220304T195450Z
UID:1383-1652983200-1652985900@www.xcelperform.com
SUMMARY:Jr. Xcel Lifting
DESCRIPTION:
URL:https://www.xcelperform.com/event/jr-xcel-lifting-22/
END:VEVENT
BEGIN:VEVENT
DTSTART;TZID=America/Chicago:20220524T180000
DTEND;TZID=America/Chicago:20220524T184500
DTSTAMP:20260423T051706
CREATED:20220304T195650Z
LAST-MODIFIED:20220304T195650Z
UID:1385-1653415200-1653417900@www.xcelperform.com
SUMMARY:Jr. Xcel Lifting
DESCRIPTION:
URL:https://www.xcelperform.com/event/jr-xcel-lifting-23/
END:VEVENT
BEGIN:VEVENT
DTSTART;TZID=America/Chicago:20220526T180000
DTEND;TZID=America/Chicago:20220526T184500
DTSTAMP:20260423T051706
CREATED:20220304T195730Z
LAST-MODIFIED:20220304T195730Z
UID:1387-1653588000-1653590700@www.xcelperform.com
SUMMARY:Jr. Xcel Lifting
DESCRIPTION:
URL:https://www.xcelperform.com/event/jr-xcel-lifting-24/
END:VEVENT
END:VCALENDAR